BEGIN:VCALENDAR
VERSION:2.0
PRODID:-//SiMODiSA Digital Portal - ECPv5.0.3.1//NONSGML v1.0//EN
CALSCALE:GREGORIAN
METHOD:PUBLISH
X-WR-CALNAME:SiMODiSA Digital Portal
X-ORIGINAL-URL:https://venturecentral.simodisa.org
X-WR-CALDESC:Events for SiMODiSA Digital Portal
BEGIN:VTIMEZONE
TZID:Africa/Johannesburg
BEGIN:STANDARD
TZOFFSETFROM:+0200
TZOFFSETTO:+0200
TZNAME:SAST
DTSTART:20190101T000000
END:STANDARD
END:VTIMEZONE
BEGIN:VEVENT
DTSTART;TZID=Africa/Johannesburg:20190323T100000
DTEND;TZID=Africa/Johannesburg:20190323T130000
DTSTAMP:20260426T000112
CREATED:20190318T112820Z
LAST-MODIFIED:20190318T112820Z
UID:17638-1553335200-1553346000@venturecentral.simodisa.org
SUMMARY:Going Global Think Tank Johannesburg
DESCRIPTION:Join Sammy Blindel — CEO of www.howtobuildabrand.org and the founder of The Brand Builder Club — as she sets up the Johannesburg Brand Builders Think Tank. \n
URL:https://venturecentral.simodisa.org/event/going-global-think-tank-johannesburg/
ATTACH;FMTTYPE=:
END:VEVENT
END:VCALENDAR