BEGIN:VCALENDAR
VERSION:2.0
PRODID:-//SiMODiSA Digital Portal - ECPv5.0.3.1//NONSGML v1.0//EN
CALSCALE:GREGORIAN
METHOD:PUBLISH
X-WR-CALNAME:SiMODiSA Digital Portal
X-ORIGINAL-URL:https://venturecentral.simodisa.org
X-WR-CALDESC:Events for SiMODiSA Digital Portal
BEGIN:VTIMEZONE
TZID:Africa/Johannesburg
BEGIN:STANDARD
TZOFFSETFROM:+0200
TZOFFSETTO:+0200
TZNAME:SAST
DTSTART:20190101T000000
END:STANDARD
END:VTIMEZONE
BEGIN:VEVENT
DTSTART;TZID=Africa/Johannesburg:20190611T130000
DTEND;TZID=Africa/Johannesburg:20190611T143000
DTSTAMP:20260421T102122
CREATED:20190530T150225Z
LAST-MODIFIED:20190530T150225Z
UID:18211-1560258000-1560263400@venturecentral.simodisa.org
SUMMARY:Grow Your Business with African Management Initiative Information Session
DESCRIPTION:You’re invited to join AMI’s Grow Your Business programme!\nAttend our free Information Session on Tuesday 11 June 2019 to learn more. \nThis programme is designed to help established businesses move to the next level of sustainable\ngrowth. And the results speak for themselves! Businesses that participated in this programme in\n2018 saw average annual revenue increases of 60%.\nOur Grow Your Business programme will empower you to run your business differently by helping\nyou to diagnose the gaps in your business and then select the organisational habits that your\nbusiness needs to grow and perform more effectively.\nGrow Your Business will help you to:\n– Plan your business’ growth\n– Explore how you can attract and retain a loyal customer base\n– Manage your money better\n– Streamline the way you’re running your business\n– Coach and grow your team to perform at their best \nMore details about this session\, and the programme itself\, can be found in the attached or by visiting http://saopen.africanmanagers.org/gyb. Scholarships are available for this programme! \n
URL:https://venturecentral.simodisa.org/event/grow-your-business-with-african-management-initiative-information-session/
ATTACH;FMTTYPE=:
END:VEVENT
END:VCALENDAR