BEGIN:VCALENDAR
VERSION:2.0
PRODID:-//SiMODiSA Digital Portal - ECPv5.0.3.1//NONSGML v1.0//EN
CALSCALE:GREGORIAN
METHOD:PUBLISH
X-WR-CALNAME:SiMODiSA Digital Portal
X-ORIGINAL-URL:https://venturecentral.simodisa.org
X-WR-CALDESC:Events for SiMODiSA Digital Portal
BEGIN:VTIMEZONE
TZID:Africa/Johannesburg
BEGIN:STANDARD
TZOFFSETFROM:+0200
TZOFFSETTO:+0200
TZNAME:SAST
DTSTART:20190101T000000
END:STANDARD
END:VTIMEZONE
BEGIN:VEVENT
DTSTART;TZID=Africa/Johannesburg:20190919T180000
DTEND;TZID=Africa/Johannesburg:20190919T203000
DTSTAMP:20260421T042109
CREATED:20190905T120901Z
LAST-MODIFIED:20190905T120901Z
UID:25321-1568916000-1568925000@venturecentral.simodisa.org
SUMMARY:Heavy Chef Inspire Sessions: The Media Mavens (JHB) - Nunu Ntshingila\, Richard Poplak\, Gareth Cliff
DESCRIPTION:Before 2000\, media was seen as straightforward. There were four channels\, print\, radio\, TV and outdoor. In order to communicate to an audience\, you had to craft your message\, then syndicate it by buying space on those channels. Now\, in the digital age\, the media landscape has become a vast\, convoluted minefield. We’ve asked three of the most eloquent practitioners in that terrain to articulate their own significant experience digging the trenches and laying the groundwork. \n
URL:https://venturecentral.simodisa.org/event/heavy-chef-inspire-sessions-the-media-mavens-jhb-nunu-ntshingila-richard-poplak-gareth-cliff/
ATTACH;FMTTYPE=:
END:VEVENT
END:VCALENDAR