BEGIN:VCALENDAR
VERSION:2.0
PRODID:-//SiMODiSA Digital Portal - ECPv5.0.3.1//NONSGML v1.0//EN
CALSCALE:GREGORIAN
METHOD:PUBLISH
X-WR-CALNAME:SiMODiSA Digital Portal
X-ORIGINAL-URL:https://venturecentral.simodisa.org
X-WR-CALDESC:Events for SiMODiSA Digital Portal
BEGIN:VTIMEZONE
TZID:Africa/Johannesburg
BEGIN:STANDARD
TZOFFSETFROM:+0200
TZOFFSETTO:+0200
TZNAME:SAST
DTSTART:20190101T000000
END:STANDARD
END:VTIMEZONE
BEGIN:VEVENT
DTSTART;TZID=Africa/Johannesburg:20190806T180000
DTEND;TZID=Africa/Johannesburg:20190806T203000
DTSTAMP:20260425T103714
CREATED:20190805T112703Z
LAST-MODIFIED:20190805T112703Z
UID:19990-1565114400-1565123400@venturecentral.simodisa.org
SUMMARY:Heavy Chef presents The Inspire Sessions: ADRIAN GORE. BARRY SWARTZBERG.
DESCRIPTION:Discovery Business Insurance and Heavy Chef have teamed up to create ‘Inspire’. This new series of events connects the Heavy Chef audience with the greatest technologists\, leaders and creatives in the business world. We’re coming out the gates hot. Our first two speakers are Adrian Gore and Barry Swartzberg\, two iconic South African entrepreneurs who have built a business from the ground up\, which today ranks in the top tier of international insurers. Our speakers are the brains behind many innovations in their sector. They’ve evolved Discovery’s core purpose\, to make people healthier\, into a unique and repeatable business model\, Shared-Value Insurance\, which is now the world’s largest behaviour-change platform. Through their partnerships with leading insurers\, Shared-Value Insurance is changing the lives of more than 20 million people in 20 countries and transforming financial services globally. Join us as we speak to Adrian and Barry about the power of attitude\, the ripple effect of positivity and the active role we all play in achieving business longevity and growth to benefit our economy. \n  \n
URL:https://venturecentral.simodisa.org/event/heavy-chef-presents-the-inspire-sessions-adrian-gore-barry-swartzberg/
ATTACH;FMTTYPE=:
END:VEVENT
END:VCALENDAR