BEGIN:VCALENDAR
VERSION:2.0
PRODID:-//SiMODiSA Digital Portal - ECPv5.0.3.1//NONSGML v1.0//EN
CALSCALE:GREGORIAN
METHOD:PUBLISH
X-WR-CALNAME:SiMODiSA Digital Portal
X-ORIGINAL-URL:https://venturecentral.simodisa.org
X-WR-CALDESC:Events for SiMODiSA Digital Portal
BEGIN:VTIMEZONE
TZID:Africa/Johannesburg
BEGIN:STANDARD
TZOFFSETFROM:+0200
TZOFFSETTO:+0200
TZNAME:SAST
DTSTART:20190101T000000
END:STANDARD
END:VTIMEZONE
BEGIN:VEVENT
DTSTART;TZID=Africa/Johannesburg:20190822T180000
DTEND;TZID=Africa/Johannesburg:20190822T203000
DTSTAMP:20260421T035511
CREATED:20190819T105331Z
LAST-MODIFIED:20190819T105331Z
UID:25221-1566496800-1566505800@venturecentral.simodisa.org
SUMMARY:Heavy Chef - The Inspire Sessions: The Champions (CPT) - Roxy Davis\, Hanli Prinsloo\, Sizakele Marutlulle
DESCRIPTION:Heavy Chef is incredibly honoured to present our latest learning experience: The Champions.  \nOn 22 August\, at the Waterfront in Cape Town\, Heavy Chef is hosting a panel of extraordinary women on the Heavy Chef stage as part of our ‘Inspire’ series of events. Together with Discovery and Workshop17\, our latest Inspire session features Roxy Davis: nine-times South African Surfing Champion\, professional Surf Coach\, business owner\, mother and founder of the Roxy Davis Foundation; Hanli Prinsloo: Competitive Freediver and holder of 11 national freediving records; and Sizakele Marutlulle: CEO and Founder of Marutlulle & Co\, award-winning business pioneer. \n
URL:https://venturecentral.simodisa.org/event/heavy-chef-the-inspire-sessions-the-champions-cpt-roxy-davis-hanli-prinsloo-sizakele-marutlulle/
ATTACH;FMTTYPE=:
END:VEVENT
END:VCALENDAR