BEGIN:VCALENDAR
VERSION:2.0
PRODID:-//SiMODiSA Digital Portal - ECPv5.0.3.1//NONSGML v1.0//EN
CALSCALE:GREGORIAN
METHOD:PUBLISH
X-WR-CALNAME:SiMODiSA Digital Portal
X-ORIGINAL-URL:https://venturecentral.simodisa.org
X-WR-CALDESC:Events for SiMODiSA Digital Portal
BEGIN:VTIMEZONE
TZID:Africa/Johannesburg
BEGIN:STANDARD
TZOFFSETFROM:+0200
TZOFFSETTO:+0200
TZNAME:SAST
DTSTART:20190101T000000
END:STANDARD
END:VTIMEZONE
BEGIN:VEVENT
DTSTART;TZID=Africa/Johannesburg:20190130T173000
DTEND;TZID=Africa/Johannesburg:20190130T190000
DTSTAMP:20260420T220950
CREATED:20190107T145350Z
LAST-MODIFIED:20190107T145350Z
UID:17376-1548869400-1548874800@venturecentral.simodisa.org
SUMMARY:How to find clients and grow your business with York Zucchi
DESCRIPTION:A free but intense workshop for all startups\, innovators\, entrepreneurs and SMEs in Cape Town. \nIt is a 1 hour very interactive and practical session where you will leave with useful tools and ideas for you to use immediately to generate leads for your business or business idea based on what we learned from observing and supporting SMEs in over 83 countries. \n
URL:https://venturecentral.simodisa.org/event/how-to-find-clients-and-grow-your-business-with-york-zucchi/
ATTACH;FMTTYPE=:
END:VEVENT
END:VCALENDAR