BEGIN:VCALENDAR
VERSION:2.0
PRODID:-//SiMODiSA Digital Portal - ECPv5.0.3.1//NONSGML v1.0//EN
CALSCALE:GREGORIAN
METHOD:PUBLISH
X-WR-CALNAME:SiMODiSA Digital Portal
X-ORIGINAL-URL:https://venturecentral.simodisa.org
X-WR-CALDESC:Events for SiMODiSA Digital Portal
BEGIN:VTIMEZONE
TZID:Africa/Johannesburg
BEGIN:STANDARD
TZOFFSETFROM:+0200
TZOFFSETTO:+0200
TZNAME:SAST
DTSTART:20190101T000000
END:STANDARD
END:VTIMEZONE
BEGIN:VEVENT
DTSTART;TZID=Africa/Johannesburg:20190716T080000
DTEND;TZID=Africa/Johannesburg:20190716T100000
DTSTAMP:20260420T215244
CREATED:20190715T111553Z
LAST-MODIFIED:20190715T111553Z
UID:18778-1563264000-1563271200@venturecentral.simodisa.org
SUMMARY:How to make WhatsApp work for media
DESCRIPTION:Jamlab\, in partnership with the Civic Tech Innovation Network\, will be hosting a panel discussion on ways to make WhatsApp work for media. \nWhatsApp is the most widely used app in South Africa but the least used channel by South African media. There are challenges in the way WhatsApp works that makes using it as a media platform difficult. In this Jamlab breakfast\, they bring together some of the people who have been making this platform work and are trying to address the misinformation that also flows on it. \nThe panel includes: \n\nKoketso Moeti\, founding executive director at Amandla.mobi!\nPhillip de Wet\, associate editor at Business Insider South Africa\nKate Wilkinson\, acting deputy chief editor at Africa Chec\n\n
URL:https://venturecentral.simodisa.org/event/how-to-make-whatsapp-work-for-media/
END:VEVENT
END:VCALENDAR