BEGIN:VCALENDAR
VERSION:2.0
PRODID:-//SiMODiSA Digital Portal - ECPv5.0.3.1//NONSGML v1.0//EN
CALSCALE:GREGORIAN
METHOD:PUBLISH
X-WR-CALNAME:SiMODiSA Digital Portal
X-ORIGINAL-URL:https://venturecentral.simodisa.org
X-WR-CALDESC:Events for SiMODiSA Digital Portal
BEGIN:VTIMEZONE
TZID:Africa/Johannesburg
BEGIN:STANDARD
TZOFFSETFROM:+0200
TZOFFSETTO:+0200
TZNAME:SAST
DTSTART:20190101T000000
END:STANDARD
END:VTIMEZONE
BEGIN:VEVENT
DTSTART;TZID=Africa/Johannesburg:20190817T083000
DTEND;TZID=Africa/Johannesburg:20190817T170000
DTSTAMP:20260420T184938
CREATED:20190812T134622Z
LAST-MODIFIED:20190812T134622Z
UID:23705-1566030600-1566061200@venturecentral.simodisa.org
SUMMARY:I AM AN ENTREPRENEUR Summit - East London
DESCRIPTION:This full-day Summit consists of a mixture of Educational\, Skills Development\, as well as Entrepreneurial Leadership insights led by experts in various fields.\nSharpen your sales skills with Sales Guru\, Mark Keating. His sales masterclass provides real-world training\, ideas and tips that are proven to increase your sales. Discover the digital tools that you need to get your business connected to its customers with Yolanda Mlonzi from Google South Africa. Learn how to raise the correct types of funding for your business courtesy of FNB Business` representative and Nocwaka Joka from SEFA. End the day with Guest Entrepreneur\, Dr Thandi Ndlovu\, the Founder and CEO of Motheo Construction Group\, a leading provider of Social Housing in South Africa. \nAndile Khumalo – Founder I AM AN ENTREPRENEUR\nGoogle Africa – Yolanda Mlonzi\nMark Keating – Sales Guru \nDr. Thandi Ndlovu – Motheo Group Nocwaka Joka – SEFA \n
URL:https://venturecentral.simodisa.org/event/i-am-an-entrepreneur-summit-east-london/
ATTACH;FMTTYPE=:
END:VEVENT
END:VCALENDAR