BEGIN:VCALENDAR
VERSION:2.0
PRODID:-//SiMODiSA Digital Portal - ECPv5.0.3.1//NONSGML v1.0//EN
CALSCALE:GREGORIAN
METHOD:PUBLISH
X-WR-CALNAME:SiMODiSA Digital Portal
X-ORIGINAL-URL:https://venturecentral.simodisa.org
X-WR-CALDESC:Events for SiMODiSA Digital Portal
BEGIN:VTIMEZONE
TZID:Africa/Johannesburg
BEGIN:STANDARD
TZOFFSETFROM:+0200
TZOFFSETTO:+0200
TZNAME:SAST
DTSTART:20170101T000000
END:STANDARD
END:VTIMEZONE
BEGIN:VEVENT
DTSTART;TZID=Africa/Johannesburg:20171115T080000
DTEND;TZID=Africa/Johannesburg:20171115T170000
DTSTAMP:20260423T135709
CREATED:20171110T105854Z
LAST-MODIFIED:20171110T105854Z
UID:12233-1510732800-1510765200@venturecentral.simodisa.org
SUMMARY:ICT Youth Bootcamp
DESCRIPTION:
URL:https://venturecentral.simodisa.org/event/ict-youth-bootcamp/
LOCATION:Marketplace Connecting Home Owners to Domestic Cleaners
ATTACH;FMTTYPE=:
END:VEVENT
END:VCALENDAR