BEGIN:VCALENDAR
VERSION:2.0
PRODID:-//SiMODiSA Digital Portal - ECPv5.0.3.1//NONSGML v1.0//EN
CALSCALE:GREGORIAN
METHOD:PUBLISH
X-WR-CALNAME:SiMODiSA Digital Portal
X-ORIGINAL-URL:https://venturecentral.simodisa.org
X-WR-CALDESC:Events for SiMODiSA Digital Portal
BEGIN:VTIMEZONE
TZID:Africa/Johannesburg
BEGIN:STANDARD
TZOFFSETFROM:+0200
TZOFFSETTO:+0200
TZNAME:SAST
DTSTART:20190101T000000
END:STANDARD
END:VTIMEZONE
BEGIN:VEVENT
DTSTART;TZID=Africa/Johannesburg:20190301T150000
DTEND;TZID=Africa/Johannesburg:20190301T190000
DTSTAMP:20260421T000235
CREATED:20190225T121951Z
LAST-MODIFIED:20190225T121951Z
UID:17551-1551452400-1551466800@venturecentral.simodisa.org
SUMMARY:I'M IN BUSINESS - Masterclass Series
DESCRIPTION:A pilot for the Masterclass series of events brought to you by I’M IN Accelerator\, with the aim of this series is to give technology startups access to first row information from other successful entrepreneurs\, expose them to potential investors and most importantly grow the platform of collaboration amongst technology players in the local industry. \n
URL:https://venturecentral.simodisa.org/event/im-in-business-masterclass-series/
ATTACH;FMTTYPE=:
END:VEVENT
END:VCALENDAR