BEGIN:VCALENDAR
VERSION:2.0
PRODID:-//SiMODiSA Digital Portal - ECPv5.0.3.1//NONSGML v1.0//EN
CALSCALE:GREGORIAN
METHOD:PUBLISH
X-WR-CALNAME:SiMODiSA Digital Portal
X-ORIGINAL-URL:https://venturecentral.simodisa.org
X-WR-CALDESC:Events for SiMODiSA Digital Portal
BEGIN:VTIMEZONE
TZID:Africa/Johannesburg
BEGIN:STANDARD
TZOFFSETFROM:+0200
TZOFFSETTO:+0200
TZNAME:SAST
DTSTART:20190101T000000
END:STANDARD
END:VTIMEZONE
BEGIN:VEVENT
DTSTART;TZID=Africa/Johannesburg:20190605T170000
DTEND;TZID=Africa/Johannesburg:20190605T203000
DTSTAMP:20260420T184531
CREATED:20190604T122547Z
LAST-MODIFIED:20190604T122547Z
UID:18220-1559754000-1559766600@venturecentral.simodisa.org
SUMMARY:Injini Cohort 3 Launch Event
DESCRIPTION:Injini\, supported by our partners at Amazon Web Services (AWS)\, will be kicking off the Cohort 3 programme with an event to introduce the cohort. \nYou’ll get a chance to learn more about Injini and our AWS partnership\, hear all eight startups pitch their businesses\, then meet and mingle with the cohort. After this event\, we’ll be able to officially match mentors with their startups for the duration of the programme. \nLight snacks and drinks will be provided. \n
URL:https://venturecentral.simodisa.org/event/injini-cohort-3-launch-event/
ATTACH;FMTTYPE=:
END:VEVENT
END:VCALENDAR