BEGIN:VCALENDAR
VERSION:2.0
PRODID:-//SiMODiSA Digital Portal - ECPv5.0.3.1//NONSGML v1.0//EN
CALSCALE:GREGORIAN
METHOD:PUBLISH
X-WR-CALNAME:SiMODiSA Digital Portal
X-ORIGINAL-URL:https://venturecentral.simodisa.org
X-WR-CALDESC:Events for SiMODiSA Digital Portal
BEGIN:VTIMEZONE
TZID:Africa/Johannesburg
BEGIN:STANDARD
TZOFFSETFROM:+0200
TZOFFSETTO:+0200
TZNAME:SAST
DTSTART:20190101T000000
END:STANDARD
END:VTIMEZONE
BEGIN:VEVENT
DTSTART;TZID=Africa/Johannesburg:20190603T080000
DTEND;TZID=Africa/Johannesburg:20190603T170000
DTSTAMP:20260420T184356
CREATED:20190530T145148Z
LAST-MODIFIED:20190530T145148Z
UID:18207-1559548800-1559581200@venturecentral.simodisa.org
SUMMARY:INNOVATING JUSTICE CHALLENGE LAUNCH
DESCRIPTION:Are you a working on an innovative solution that will improve access to justice for millions of people in Southern Africa? \nThe Hague Institute for Innovation of Law (HiiL) is looking for entrepreneurs and innovators to join its Innovating Justice Challenge 2019. \nQualifying innovators stand a unique opportunity to receive specialised business development training\, exposure at a global level\, mentorship and debt and equity -free grant money from one of the world’s leading proponents of justice innovations. \nJoin us on 3 June for the South African launch of the world’s top justice accelerator programme. We’ll be discussing the pressing need for innovation in the justice sector and the opportunities for entrepreneurs\, and answering questions about how we can help you to take your innovation to the next level\, and help meet the justice needs of millions of citizens. \nConfirm your attendance by visiting this link to the event’s Meetup page. \n
URL:https://venturecentral.simodisa.org/event/innovating-justice-challenge-launch/
ATTACH;FMTTYPE=:
END:VEVENT
END:VCALENDAR