BEGIN:VCALENDAR
VERSION:2.0
PRODID:-//SiMODiSA Digital Portal - ECPv5.0.3.1//NONSGML v1.0//EN
CALSCALE:GREGORIAN
METHOD:PUBLISH
X-WR-CALNAME:SiMODiSA Digital Portal
X-ORIGINAL-URL:https://venturecentral.simodisa.org
X-WR-CALDESC:Events for SiMODiSA Digital Portal
BEGIN:VTIMEZONE
TZID:Africa/Johannesburg
BEGIN:STANDARD
TZOFFSETFROM:+0200
TZOFFSETTO:+0200
TZNAME:SAST
DTSTART:20170101T000000
END:STANDARD
END:VTIMEZONE
BEGIN:VEVENT
DTSTART;TZID=Africa/Johannesburg:20170906T080000
DTEND;TZID=Africa/Johannesburg:20170907T170000
DTSTAMP:20260420T201943
CREATED:20170810T133617Z
LAST-MODIFIED:20170810T133617Z
UID:26336-1504684800-1504803600@venturecentral.simodisa.org
SUMMARY:Inspire Gauteng Tourism Trade and Investment EXPO
DESCRIPTION:
URL:https://venturecentral.simodisa.org/event/inspire-gauteng-tourism-trade-and-investment-expo/
LOCATION:Sections & Parallax
END:VEVENT
END:VCALENDAR