BEGIN:VCALENDAR
VERSION:2.0
PRODID:-//SiMODiSA Digital Portal - ECPv5.0.3.1//NONSGML v1.0//EN
CALSCALE:GREGORIAN
METHOD:PUBLISH
X-WR-CALNAME:SiMODiSA Digital Portal
X-ORIGINAL-URL:https://venturecentral.simodisa.org
X-WR-CALDESC:Events for SiMODiSA Digital Portal
BEGIN:VTIMEZONE
TZID:Africa/Johannesburg
BEGIN:STANDARD
TZOFFSETFROM:+0200
TZOFFSETTO:+0200
TZNAME:SAST
DTSTART:20190101T000000
END:STANDARD
END:VTIMEZONE
BEGIN:VEVENT
DTSTART;TZID=Africa/Johannesburg:20190304T083000
DTEND;TZID=Africa/Johannesburg:20190304T113000
DTSTAMP:20260420T184709
CREATED:20190226T152223Z
LAST-MODIFIED:20190226T152223Z
UID:17570-1551688200-1551699000@venturecentral.simodisa.org
SUMMARY:International Women's Day at Google
DESCRIPTION:In celebration of International Women’s Day you are invited to join us for a morning of inspiration\, networking and practical tips on how to grow your business with a leading expert in the field – all enjoyed over a delicious lunch and in great company. No tickets at the door. \n
URL:https://venturecentral.simodisa.org/event/international-womens-day-at-google/
ATTACH;FMTTYPE=:
END:VEVENT
END:VCALENDAR