BEGIN:VCALENDAR
VERSION:2.0
PRODID:-//SiMODiSA Digital Portal - ECPv5.0.3.1//NONSGML v1.0//EN
CALSCALE:GREGORIAN
METHOD:PUBLISH
X-WR-CALNAME:SiMODiSA Digital Portal
X-ORIGINAL-URL:https://venturecentral.simodisa.org
X-WR-CALDESC:Events for SiMODiSA Digital Portal
BEGIN:VTIMEZONE
TZID:Africa/Johannesburg
BEGIN:STANDARD
TZOFFSETFROM:+0200
TZOFFSETTO:+0200
TZNAME:SAST
DTSTART:20190101T000000
END:STANDARD
END:VTIMEZONE
BEGIN:VEVENT
DTSTART;TZID=Africa/Johannesburg:20190725T080000
DTEND;TZID=Africa/Johannesburg:20190725T153000
DTSTAMP:20260421T051609
CREATED:20190722T115600Z
LAST-MODIFIED:20190722T115600Z
UID:19424-1564041600-1564068600@venturecentral.simodisa.org
SUMMARY:Internet Summit 2019 - Cape Town
DESCRIPTION:\n\n\n\n\nImbizo Events hosts the Second Annual Internet Summit\, an annual multi-stakeholder ICT conference gathering the ICT business and technical community together to discuss challenges that the sector faces. \nThe summit will look at issues such as mutual support for strengthening infrastructure throughout the region\, create awareness on cybersecurity and will also see the unveiling of corporate internet migration. \n\n\n\n\n\n\n\n
URL:https://venturecentral.simodisa.org/event/internet-summit-2019-cape-town/
ATTACH;FMTTYPE=:
END:VEVENT
END:VCALENDAR