BEGIN:VCALENDAR
VERSION:2.0
PRODID:-//SiMODiSA Digital Portal - ECPv5.0.3.1//NONSGML v1.0//EN
CALSCALE:GREGORIAN
METHOD:PUBLISH
X-WR-CALNAME:SiMODiSA Digital Portal
X-ORIGINAL-URL:https://venturecentral.simodisa.org
X-WR-CALDESC:Events for SiMODiSA Digital Portal
BEGIN:VTIMEZONE
TZID:Africa/Johannesburg
BEGIN:STANDARD
TZOFFSETFROM:+0200
TZOFFSETTO:+0200
TZNAME:SAST
DTSTART:20190101T000000
END:STANDARD
END:VTIMEZONE
BEGIN:VEVENT
DTSTART;TZID=Africa/Johannesburg:20190628T080000
DTEND;TZID=Africa/Johannesburg:20190628T170000
DTSTAMP:20260420T165521
CREATED:20190628T171118Z
LAST-MODIFIED:20190628T171118Z
UID:18535-1561708800-1561741200@venturecentral.simodisa.org
SUMMARY:Internet Summit
DESCRIPTION:The Internet and Social Media Summit is created to function as a powerful tool where businesses engage in talks\, networking for business developments opportunities\, and create platforms to strategize and discuss new topical issues\, trends\, innovative ideas and the impact of the internet and Social Media in our everyday lives. Its designed as a tool for business development opportunities also creates a platform to strategize and discuss online communication issues. \n
URL:https://venturecentral.simodisa.org/event/internet-summit/
ATTACH;FMTTYPE=:
END:VEVENT
END:VCALENDAR