BEGIN:VCALENDAR
VERSION:2.0
PRODID:-//SiMODiSA Digital Portal - ECPv5.0.3.1//NONSGML v1.0//EN
CALSCALE:GREGORIAN
METHOD:PUBLISH
X-WR-CALNAME:SiMODiSA Digital Portal
X-ORIGINAL-URL:https://venturecentral.simodisa.org
X-WR-CALDESC:Events for SiMODiSA Digital Portal
BEGIN:VTIMEZONE
TZID:Africa/Johannesburg
BEGIN:STANDARD
TZOFFSETFROM:+0200
TZOFFSETTO:+0200
TZNAME:SAST
DTSTART:20190101T000000
END:STANDARD
END:VTIMEZONE
BEGIN:VEVENT
DTSTART;TZID=Africa/Johannesburg:20190214T080000
DTEND;TZID=Africa/Johannesburg:20190215T150000
DTSTAMP:20260423T120713
CREATED:20190212T152845Z
LAST-MODIFIED:20190212T152845Z
UID:17491-1550131200-1550242800@venturecentral.simodisa.org
SUMMARY:IoT Startup Festival
DESCRIPTION:\n\n\n\nBe prepared to take a deep dive into Sigfox startup ecosystem. You have 2 days to innovate in IoT! Hear\, Learn\, Play & Pitch.\n\n\n\n\n\n\n\n\nYou will discover the local IoT startup ecosystem and will have the opportunity\, in teams\, to send your first message using Sigfox Techology. \nBe prepared\, on the second day\, for a real Business model Canvas exercise that will help you define a strong value proposition in IoT and go on stage to present it! \n\n\n\n\n
URL:https://venturecentral.simodisa.org/event/iot-startup-festival/
ATTACH;FMTTYPE=:
END:VEVENT
END:VCALENDAR