BEGIN:VCALENDAR
VERSION:2.0
PRODID:-//SiMODiSA Digital Portal - ECPv5.0.3.1//NONSGML v1.0//EN
CALSCALE:GREGORIAN
METHOD:PUBLISH
X-WR-CALNAME:SiMODiSA Digital Portal
X-ORIGINAL-URL:https://venturecentral.simodisa.org
X-WR-CALDESC:Events for SiMODiSA Digital Portal
BEGIN:VTIMEZONE
TZID:Africa/Johannesburg
BEGIN:STANDARD
TZOFFSETFROM:+0200
TZOFFSETTO:+0200
TZNAME:SAST
DTSTART:20190101T000000
END:STANDARD
END:VTIMEZONE
BEGIN:VEVENT
DTSTART;TZID=Africa/Johannesburg:20190608T080000
DTEND;TZID=Africa/Johannesburg:20190608T140000
DTSTAMP:20260421T152646
CREATED:20190530T114511Z
LAST-MODIFIED:20190530T114511Z
UID:18203-1559980800-1560002400@venturecentral.simodisa.org
SUMMARY:#JoinUsForTEA Khayelitsha
DESCRIPTION:#JoinUsForTEA in Khayelitsha for a day filled with information and learning that will help you grow your business. We will be hosting thought leaders and business speakers who will engage in topics that will transform your business. \nTEA is a national Township-based oganisation which created platforms for learning\, information sharing\, brand engagement\, and networking. We connect government\, corporate SA and entrepreneurs together. \nCome ready to learn and bring along other entrepreneurs. We will have the following activities on the day: \n– Learning \n– Pitching \n– Mbawula Chats \n– Speakers \n
URL:https://venturecentral.simodisa.org/event/joinusfortea-khayelitsha/
ATTACH;FMTTYPE=:
END:VEVENT
END:VCALENDAR