BEGIN:VCALENDAR
VERSION:2.0
PRODID:-//SiMODiSA Digital Portal - ECPv5.0.3.1//NONSGML v1.0//EN
CALSCALE:GREGORIAN
METHOD:PUBLISH
X-WR-CALNAME:SiMODiSA Digital Portal
X-ORIGINAL-URL:https://venturecentral.simodisa.org
X-WR-CALDESC:Events for SiMODiSA Digital Portal
BEGIN:VTIMEZONE
TZID:Africa/Johannesburg
BEGIN:STANDARD
TZOFFSETFROM:+0200
TZOFFSETTO:+0200
TZNAME:SAST
DTSTART:20190101T000000
END:STANDARD
END:VTIMEZONE
BEGIN:VEVENT
DTSTART;TZID=Africa/Johannesburg:20190824T083000
DTEND;TZID=Africa/Johannesburg:20190824T140000
DTSTAMP:20260423T090306
CREATED:20190820T150413Z
LAST-MODIFIED:20190820T150413Z
UID:25253-1566635400-1566655200@venturecentral.simodisa.org
SUMMARY:#JoinUsForTEA Limpopo
DESCRIPTION:\n\n\n\n#JoinUsForTEA hosts free workshops in townships aimed at equipping entrepreneurs with skills to grow sustainable businesses.\n\n\n\n\n\n\nAbout this Event\n\n\n#JoinUsForTEA in Limpopo for a day filled with information and learning that will help you grow your business. We will be hosting thought leaders and business speakers who will engage on topics that will transform your business. \nTEA is a national Township based organisation which created platforms for learning\, information sharing\, brand engagement and networking. We connect government\, corporate SA and entrepreneurs together. \nCome ready to learn and bring along other entrepreneurs. We will have the following activities on the day: \n– Learning \n– Pitching \n– Mbawula Chats \n– Speakers \nSo join the movement at the Limpopo leg of the National Tour. \n\n\n\n\n
URL:https://venturecentral.simodisa.org/event/joinusfortea-limpopo/
ATTACH;FMTTYPE=:
END:VEVENT
END:VCALENDAR