BEGIN:VCALENDAR
VERSION:2.0
PRODID:-//SiMODiSA Digital Portal - ECPv5.0.3.1//NONSGML v1.0//EN
CALSCALE:GREGORIAN
METHOD:PUBLISH
X-WR-CALNAME:SiMODiSA Digital Portal
X-ORIGINAL-URL:https://venturecentral.simodisa.org
X-WR-CALDESC:Events for SiMODiSA Digital Portal
BEGIN:VTIMEZONE
TZID:Africa/Johannesburg
BEGIN:STANDARD
TZOFFSETFROM:+0200
TZOFFSETTO:+0200
TZNAME:SAST
DTSTART:20190101T000000
END:STANDARD
END:VTIMEZONE
BEGIN:VEVENT
DTSTART;TZID=Africa/Johannesburg:20190611T180000
DTEND;TZID=Africa/Johannesburg:20190611T210000
DTSTAMP:20260421T052612
CREATED:20190610T093334Z
LAST-MODIFIED:20190610T093334Z
UID:18269-1560276000-1560286800@venturecentral.simodisa.org
SUMMARY:Jokes Aside: An evening with Tumi Morake and Mpho Osei Tutu
DESCRIPTION:LifeCheq is delighted to host actor and screenwriter\, Mpho Osei Tutu\, and comedian/author\, Tumi Morake\, for what promises to be a fun and engaging evening. Tumi and Mpho will be sharing their journey with us\, talking about how they’ve built their careers as creative entrepreneurs\, working together as a couple\, the risks they’ve taken that did or didn’t pay off\, balancing career and lifestyle choices and just generally trying to have it all. \n
URL:https://venturecentral.simodisa.org/event/jokes-aside-an-evening-with-tumi-morake-and-mpho-osei-tutu/
END:VEVENT
END:VCALENDAR