BEGIN:VCALENDAR
VERSION:2.0
PRODID:-//SiMODiSA Digital Portal - ECPv5.0.3.1//NONSGML v1.0//EN
CALSCALE:GREGORIAN
METHOD:PUBLISH
X-WR-CALNAME:SiMODiSA Digital Portal
X-ORIGINAL-URL:https://venturecentral.simodisa.org
X-WR-CALDESC:Events for SiMODiSA Digital Portal
BEGIN:VTIMEZONE
TZID:Africa/Johannesburg
BEGIN:STANDARD
TZOFFSETFROM:+0200
TZOFFSETTO:+0200
TZNAME:SAST
DTSTART:20180101T000000
END:STANDARD
END:VTIMEZONE
BEGIN:VEVENT
DTSTART;TZID=Africa/Johannesburg:20181113T090000
DTEND;TZID=Africa/Johannesburg:20181113T150000
DTSTAMP:20260423T090306
CREATED:20181004T130021Z
LAST-MODIFIED:20181004T130021Z
UID:17233-1542099600-1542121200@venturecentral.simodisa.org
SUMMARY:Kasi Go Digital | Khayelitsha
DESCRIPTION:
URL:https://venturecentral.simodisa.org/event/kasi-go-digital/
ATTACH;FMTTYPE=:
END:VEVENT
END:VCALENDAR