BEGIN:VCALENDAR
VERSION:2.0
PRODID:-//SiMODiSA Digital Portal - ECPv5.0.3.1//NONSGML v1.0//EN
CALSCALE:GREGORIAN
METHOD:PUBLISH
X-WR-CALNAME:SiMODiSA Digital Portal
X-ORIGINAL-URL:https://venturecentral.simodisa.org
X-WR-CALDESC:Events for SiMODiSA Digital Portal
BEGIN:VTIMEZONE
TZID:Africa/Johannesburg
BEGIN:STANDARD
TZOFFSETFROM:+0200
TZOFFSETTO:+0200
TZNAME:SAST
DTSTART:20190101T000000
END:STANDARD
END:VTIMEZONE
BEGIN:VEVENT
DTSTART;TZID=Africa/Johannesburg:20190307T183000
DTEND;TZID=Africa/Johannesburg:20190307T203000
DTSTAMP:20260420T185010
CREATED:20190304T122153Z
LAST-MODIFIED:20190304T122153Z
UID:17594-1551983400-1551990600@venturecentral.simodisa.org
SUMMARY:Keynote Ideasvoice SA - Entrepreneurs Discussion - March 2019
DESCRIPTION:During 2 hours\, with a panel of 11 experienced and successful entrepreneurs\, we tackle current problems facing SMEs and future entrepreneurs and associated solutions. Each panelist brings his/her experiences\, opinions and resolutions. \nOnce the main discussion is over\, the audience question the panel regarding their struggles and results. \nIt is an opportune moment to listen\, question and plan your future growth journey as a founder. It’s also a time of introspection on his/her practice in their entrepreneurial journey. \n
URL:https://venturecentral.simodisa.org/event/keynote-ideasvoice-sa-entrepreneurs-discussion-march-2019/
ATTACH;FMTTYPE=:
END:VEVENT
END:VCALENDAR