BEGIN:VCALENDAR
VERSION:2.0
PRODID:-//SiMODiSA Digital Portal - ECPv5.0.3.1//NONSGML v1.0//EN
CALSCALE:GREGORIAN
METHOD:PUBLISH
X-WR-CALNAME:SiMODiSA Digital Portal
X-ORIGINAL-URL:https://venturecentral.simodisa.org
X-WR-CALDESC:Events for SiMODiSA Digital Portal
BEGIN:VTIMEZONE
TZID:Africa/Johannesburg
BEGIN:STANDARD
TZOFFSETFROM:+0200
TZOFFSETTO:+0200
TZNAME:SAST
DTSTART:20190101T000000
END:STANDARD
END:VTIMEZONE
BEGIN:VEVENT
DTSTART;TZID=Africa/Johannesburg:20191009T173000
DTEND;TZID=Africa/Johannesburg:20191009T200000
DTSTAMP:20260420T223220
CREATED:20191007T105807Z
LAST-MODIFIED:20191007T105807Z
UID:25444-1570642200-1570651200@venturecentral.simodisa.org
SUMMARY:Launch Event of French Tech Johannesburg
DESCRIPTION:A call to members of the tech startup community! \nYou are invited to join H.E Aurélien Lechevallier\, French Ambassador in South Africa\, to celebrate the launch of the Johannesburg branch of French Tech. \nLa French Tech is a global community of startups\, entrepreneurs\, investors and organisations working together in the name of innovation. \nOn the backdrop of the growing tech scene in Johannesburg and the success of French Tech Cape Town\, the creation of French Tech Johannesburg just seems right. \n
URL:https://venturecentral.simodisa.org/event/launch-event-of-french-tech-johannesburg/
END:VEVENT
END:VCALENDAR