BEGIN:VCALENDAR
VERSION:2.0
PRODID:-//SiMODiSA Digital Portal - ECPv5.0.3.1//NONSGML v1.0//EN
CALSCALE:GREGORIAN
METHOD:PUBLISH
X-WR-CALNAME:SiMODiSA Digital Portal
X-ORIGINAL-URL:https://venturecentral.simodisa.org
X-WR-CALDESC:Events for SiMODiSA Digital Portal
BEGIN:VTIMEZONE
TZID:Africa/Johannesburg
BEGIN:STANDARD
TZOFFSETFROM:+0200
TZOFFSETTO:+0200
TZNAME:SAST
DTSTART:20190101T000000
END:STANDARD
END:VTIMEZONE
BEGIN:VEVENT
DTSTART;TZID=Africa/Johannesburg:20190702T120000
DTEND;TZID=Africa/Johannesburg:20190702T143000
DTSTAMP:20260420T221655
CREATED:20190628T171416Z
LAST-MODIFIED:20190628T171416Z
UID:18538-1562068800-1562077800@venturecentral.simodisa.org
SUMMARY:Launch of UHURU SPACES and UHURU Female Founders Co-Working Space
DESCRIPTION:THEME: INVEST IN WOMEN \nThe theme is aimed to benefit Female Founders Seeking Venture Capital and Angel Investor Funding \n
URL:https://venturecentral.simodisa.org/event/launch-of-uhuru-spaces-and-uhuru-female-founders-co-working-space/
ATTACH;FMTTYPE=:
END:VEVENT
END:VCALENDAR