BEGIN:VCALENDAR
VERSION:2.0
PRODID:-//SiMODiSA Digital Portal - ECPv5.0.3.1//NONSGML v1.0//EN
CALSCALE:GREGORIAN
METHOD:PUBLISH
X-WR-CALNAME:SiMODiSA Digital Portal
X-ORIGINAL-URL:https://venturecentral.simodisa.org
X-WR-CALDESC:Events for SiMODiSA Digital Portal
BEGIN:VTIMEZONE
TZID:Africa/Johannesburg
BEGIN:STANDARD
TZOFFSETFROM:+0200
TZOFFSETTO:+0200
TZNAME:SAST
DTSTART:20190101T000000
END:STANDARD
END:VTIMEZONE
BEGIN:VEVENT
DTSTART;TZID=Africa/Johannesburg:20190515T123000
DTEND;TZID=Africa/Johannesburg:20190515T133000
DTSTAMP:20260420T220148
CREATED:20190513T114315Z
LAST-MODIFIED:20190513T114315Z
UID:18057-1557923400-1557927000@venturecentral.simodisa.org
SUMMARY:Learning Lunch with Ricki Allardice of Ubu - Blockchain 101
DESCRIPTION:Learn the basics of Blockchain\, Bitcoin and cryptocurrencies in an hour. \nThis meetup will cover everything you need to know about the theoretical aspects of Bitcoin as well as how you purchase and store your crypto in a safe manner. Additionally\, you will learn about exchanges and other supporting infrastructure that makes the cryptocurrency ecosystem tick.\n\nA light lunch will be served\n\nParking is limited around the Woodstock Exchange\, therefore\, please allow enough time to find parking or use Uber.\n\nRSVP essential.\n
URL:https://venturecentral.simodisa.org/event/learning-lunch-with-ricki-allardice-of-ubu-blockchain-101/
END:VEVENT
END:VCALENDAR