BEGIN:VCALENDAR
VERSION:2.0
PRODID:-//SiMODiSA Digital Portal - ECPv5.0.3.1//NONSGML v1.0//EN
CALSCALE:GREGORIAN
METHOD:PUBLISH
X-WR-CALNAME:SiMODiSA Digital Portal
X-ORIGINAL-URL:https://venturecentral.simodisa.org
X-WR-CALDESC:Events for SiMODiSA Digital Portal
BEGIN:VTIMEZONE
TZID:Africa/Johannesburg
BEGIN:STANDARD
TZOFFSETFROM:+0200
TZOFFSETTO:+0200
TZNAME:SAST
DTSTART:20190101T000000
END:STANDARD
END:VTIMEZONE
BEGIN:VEVENT
DTSTART;TZID=Africa/Johannesburg:20190403T173000
DTEND;TZID=Africa/Johannesburg:20190403T203000
DTSTAMP:20260423T221210
CREATED:20190401T113729Z
LAST-MODIFIED:20190401T113729Z
UID:17737-1554312600-1554323400@venturecentral.simodisa.org
SUMMARY:Lessons from Good and Tough Times with Alan Knott-Craig Jr (Herotel\, Project Isizwe\, Mxit)
DESCRIPTION:Startup Grind Cape Town is proud to host Alan Knott-Craig Jr\, founder of Project Isizwe and chairman of Herotel\, Ever Africa\, and Hapino NPC. In 2010 he founded and became CEO of World of Avatar\, an investment house for apps for Africa and later acquired and became CEO of Mxit\, Africa’s biggest social network. He left Mxit and World of Avatar and later founded and became the CEO of project Isizwe\, a non-profit company managing the deployment of the largest public Free Wi-Fi network in South Africa. He has funded 21 companies in the tech industry. \n
URL:https://venturecentral.simodisa.org/event/lessons-from-good-and-tough-times-with-alan-knott-craig-jr-herotel-project-isizwe-mxit/
ATTACH;FMTTYPE=:
END:VEVENT
END:VCALENDAR