BEGIN:VCALENDAR
VERSION:2.0
PRODID:-//SiMODiSA Digital Portal - ECPv5.0.3.1//NONSGML v1.0//EN
CALSCALE:GREGORIAN
METHOD:PUBLISH
X-WR-CALNAME:SiMODiSA Digital Portal
X-ORIGINAL-URL:https://venturecentral.simodisa.org
X-WR-CALDESC:Events for SiMODiSA Digital Portal
BEGIN:VTIMEZONE
TZID:Africa/Johannesburg
BEGIN:STANDARD
TZOFFSETFROM:+0200
TZOFFSETTO:+0200
TZNAME:SAST
DTSTART:20170101T000000
END:STANDARD
END:VTIMEZONE
BEGIN:VEVENT
DTSTART;VALUE=DATE:20171101
DTEND;VALUE=DATE:20171103
DTSTAMP:20260420T203041
CREATED:20171025T160129Z
LAST-MODIFIED:20171025T160129Z
UID:10254-1509494400-1509667199@venturecentral.simodisa.org
SUMMARY:Liberty VUKA Knowledge Summit 2017
DESCRIPTION:
URL:https://venturecentral.simodisa.org/event/liberty-vuka-knowledge-summit-2017/
LOCATION:blog-50
ATTACH;FMTTYPE=:
END:VEVENT
END:VCALENDAR