BEGIN:VCALENDAR
VERSION:2.0
PRODID:-//SiMODiSA Digital Portal - ECPv5.0.3.1//NONSGML v1.0//EN
CALSCALE:GREGORIAN
METHOD:PUBLISH
X-WR-CALNAME:SiMODiSA Digital Portal
X-ORIGINAL-URL:https://venturecentral.simodisa.org
X-WR-CALDESC:Events for SiMODiSA Digital Portal
BEGIN:VTIMEZONE
TZID:Africa/Johannesburg
BEGIN:STANDARD
TZOFFSETFROM:+0200
TZOFFSETTO:+0200
TZNAME:SAST
DTSTART:20190101T000000
END:STANDARD
END:VTIMEZONE
BEGIN:VEVENT
DTSTART;TZID=Africa/Johannesburg:20190521T180000
DTEND;TZID=Africa/Johannesburg:20190521T210000
DTSTAMP:20260420T204019
CREATED:20190520T124041Z
LAST-MODIFIED:20190520T124041Z
UID:18106-1558461600-1558472400@venturecentral.simodisa.org
SUMMARY:Lifecheq’s Africa + Tech - Cape Town
DESCRIPTION:Africa + Tech: Megatrends that will shape your career\n\nHave you ever wondered how Bill Gates became a software billionaire? Talent and hard work played a role for sure\, but he also benefited from the momentum of a massive trend: the widespread use of the personal computer. \nNot all of us are trying to be Bill Gates but one thing remains true for everyone: positioning yourself to successfully ride the right waves in your career is the smartest financial decision you can make. A high flying career simply has a much bigger impact on the choices you have in life than how much you save or how you invest. \nIn this talk\, we delve deeper into what we mean by a trend and illustrate the substantial impact trends can have on one’s career and lifestyle. In particular\, we will consider the interaction of two current megatrends: the impending population explosion in Africa\, and the effects of rapid technological innovation on professional work. No matter what industry or field you work in\, the most successful careers over the next 30 years will be driven by these trends. You don’t want to look back and realise you missed this. \n\n
URL:https://venturecentral.simodisa.org/event/lifecheqs-africa-tech-cape-town/
END:VEVENT
END:VCALENDAR