BEGIN:VCALENDAR
VERSION:2.0
PRODID:-//SiMODiSA Digital Portal - ECPv5.0.3.1//NONSGML v1.0//EN
CALSCALE:GREGORIAN
METHOD:PUBLISH
X-WR-CALNAME:SiMODiSA Digital Portal
X-ORIGINAL-URL:https://venturecentral.simodisa.org
X-WR-CALDESC:Events for SiMODiSA Digital Portal
BEGIN:VTIMEZONE
TZID:Africa/Johannesburg
BEGIN:STANDARD
TZOFFSETFROM:+0200
TZOFFSETTO:+0200
TZNAME:SAST
DTSTART:20190101T000000
END:STANDARD
END:VTIMEZONE
BEGIN:VEVENT
DTSTART;TZID=Africa/Johannesburg:20190705T080000
DTEND;TZID=Africa/Johannesburg:20190705T113000
DTSTAMP:20260420T170720
CREATED:20190701T105357Z
LAST-MODIFIED:20190701T105357Z
UID:18552-1562313600-1562326200@venturecentral.simodisa.org
SUMMARY:Lioness Lean In - Cape Town
DESCRIPTION:You’re invited to the next in our series of Lioness Lean In events for women entrepreneurs at The Argyle\, 1 Argyle Street\, Woodstock\, Cape Town on Friday 5 July 2019\, in partnership with Volkswagen Group SA. Come and join us for a power-packed morning of inspiration\, networking and new initiatives to support Cape Town’s women business builders. \nWe have a great line up of inspirational women entrepreneurs sharing their startup stories; the opportunity for attendees to pitch their businesses\, products and services; showcasing of Lioness collaborations and new launches\, and great giveaways. \nPlease Note: This event is strictly for women entrepreneurs only. \n
URL:https://venturecentral.simodisa.org/event/lioness-lean-in-cape-town/
ATTACH;FMTTYPE=:
END:VEVENT
END:VCALENDAR