BEGIN:VCALENDAR
VERSION:2.0
PRODID:-//SiMODiSA Digital Portal - ECPv5.0.3.1//NONSGML v1.0//EN
CALSCALE:GREGORIAN
METHOD:PUBLISH
X-WR-CALNAME:SiMODiSA Digital Portal
X-ORIGINAL-URL:https://venturecentral.simodisa.org
X-WR-CALDESC:Events for SiMODiSA Digital Portal
BEGIN:VTIMEZONE
TZID:Africa/Johannesburg
BEGIN:STANDARD
TZOFFSETFROM:+0200
TZOFFSETTO:+0200
TZNAME:SAST
DTSTART:20190101T000000
END:STANDARD
END:VTIMEZONE
BEGIN:VEVENT
DTSTART;TZID=Africa/Johannesburg:20190802T080000
DTEND;TZID=Africa/Johannesburg:20190802T113000
DTSTAMP:20260425T220012
CREATED:20190729T113503Z
LAST-MODIFIED:20190729T113503Z
UID:19790-1564732800-1564745400@venturecentral.simodisa.org
SUMMARY:Lioness Lean In - Centurion\, South Africa
DESCRIPTION:You’re invited to the next in our series of Lioness Lean In events for women entrepreneurs in Centurion on Friday 2 August\, in partnership with Volkswagen Group SA. Come and join us for a power-packed morning of inspiration\, networking and new initiatives to support Pretoria’s and Johannesburg’s women business builders. \nWe have three inspirational speakers sharing their startup stories; the opportunity for attendees to pitch their businesses\, products and services; showcasing of Lioness collaborations and new launches; and great giveaways. \nAs always\, there will be lots of business networking to do with fellow women entrepreneurs\, so bring those business cards with you – you will need them for the prize draws too! \nWe hope you can join us bright and early on 2 August – we start promptly at 8am. \nLet’s #LionessLeanIn Centurion! \nBest regards\, \nMelanie Hawken\, Founder & CEO\, Lionesses of Africa \nHlubi Mboya Arnold\, Lioness Lean In Ambassador Southern Africa \n
URL:https://venturecentral.simodisa.org/event/lioness-lean-in-centurion-south-africa/
ATTACH;FMTTYPE=:
END:VEVENT
END:VCALENDAR