BEGIN:VCALENDAR
VERSION:2.0
PRODID:-//SiMODiSA Digital Portal - ECPv5.0.3.1//NONSGML v1.0//EN
CALSCALE:GREGORIAN
METHOD:PUBLISH
X-WR-CALNAME:SiMODiSA Digital Portal
X-ORIGINAL-URL:https://venturecentral.simodisa.org
X-WR-CALDESC:Events for SiMODiSA Digital Portal
BEGIN:VTIMEZONE
TZID:Africa/Johannesburg
BEGIN:STANDARD
TZOFFSETFROM:+0200
TZOFFSETTO:+0200
TZNAME:SAST
DTSTART:20190101T000000
END:STANDARD
END:VTIMEZONE
BEGIN:VEVENT
DTSTART;TZID=Africa/Johannesburg:20190405T080000
DTEND;TZID=Africa/Johannesburg:20190405T113000
DTSTAMP:20260420T224300
CREATED:20190318T122145Z
LAST-MODIFIED:20190318T122145Z
UID:17649-1554451200-1554463800@venturecentral.simodisa.org
SUMMARY:Lioness Lean In - Sandton\, Johannesburg
DESCRIPTION:You’re invited to the next in our series of Lioness Lean In events for women entrepreneurs in Johannesburg on 5 April\, in partnership with Volkswagen Group SA. Come and join us for a power-packed morning of inspiration\, networking and new initiatives to support Johannesburg’s women business builders. \nWe have three inspirational speakers sharing their startup stories; the opportunity for attendees to pitch their businesses\, products and services; showcasing of Lioness collaborations and new launches; and great giveaways. \nAs always\, there will be lots of business networking to do with fellow women entrepreneurs\, so bring those business cards with you – you will need them for the prize draws too! \nI hope you can join us bright and early on 5 April – we start promptly at 8am. \nLet’s #LionessLeanIn Johannesburg! \n
URL:https://venturecentral.simodisa.org/event/lioness-lean-in-sandton-johannesburg-2/
ATTACH;FMTTYPE=:
END:VEVENT
END:VCALENDAR