BEGIN:VCALENDAR
VERSION:2.0
PRODID:-//SiMODiSA Digital Portal - ECPv5.0.3.1//NONSGML v1.0//EN
CALSCALE:GREGORIAN
METHOD:PUBLISH
X-WR-CALNAME:SiMODiSA Digital Portal
X-ORIGINAL-URL:https://venturecentral.simodisa.org
X-WR-CALDESC:Events for SiMODiSA Digital Portal
BEGIN:VTIMEZONE
TZID:Africa/Johannesburg
BEGIN:STANDARD
TZOFFSETFROM:+0200
TZOFFSETTO:+0200
TZNAME:SAST
DTSTART:20190101T000000
END:STANDARD
END:VTIMEZONE
BEGIN:VEVENT
DTSTART;VALUE=DATE:20190625
DTEND;VALUE=DATE:20190627
DTSTAMP:20260423T103444
CREATED:20190530T150815Z
LAST-MODIFIED:20190530T150815Z
UID:18213-1561420800-1561593599@venturecentral.simodisa.org
SUMMARY:Manufacturing Indaba 2019
DESCRIPTION:Manufacturing Indaba is the leading manufacturing event in Sub-Saharan Africa. The two-day event has shown impressive growth year on year and has proved its value in catalyzing business connections and helping manufacturers to innovate and grow their potential. Participate in the manufacturing conference and exhibition to learn from industry leaders\, manufacturing sector experts and international speakers. Meet potential buyers through our business matchmaking programme and buyers lounge. \nThe aim of the annual Manufacturing Indaba and its provincial roadshows is to bring together business owners\, industry leaders\, government officials\, capital providers\, and professional experts to explore opportunities and grow their manufacturing operations. \n  \n
URL:https://venturecentral.simodisa.org/event/manufacturing-indaba-2019/
ATTACH;FMTTYPE=:
END:VEVENT
END:VCALENDAR