BEGIN:VCALENDAR
VERSION:2.0
PRODID:-//SiMODiSA Digital Portal - ECPv5.0.3.1//NONSGML v1.0//EN
CALSCALE:GREGORIAN
METHOD:PUBLISH
X-WR-CALNAME:SiMODiSA Digital Portal
X-ORIGINAL-URL:https://venturecentral.simodisa.org
X-WR-CALDESC:Events for SiMODiSA Digital Portal
BEGIN:VTIMEZONE
TZID:Africa/Johannesburg
BEGIN:STANDARD
TZOFFSETFROM:+0200
TZOFFSETTO:+0200
TZNAME:SAST
DTSTART:20190101T000000
END:STANDARD
END:VTIMEZONE
BEGIN:VEVENT
DTSTART;TZID=Africa/Johannesburg:20190503T090000
DTEND;TZID=Africa/Johannesburg:20190503T160000
DTSTAMP:20260420T184635
CREATED:20190502T121252Z
LAST-MODIFIED:20190502T121252Z
UID:17970-1556874000-1556899200@venturecentral.simodisa.org
SUMMARY:Masterclass to Success for Entrepreneurs
DESCRIPTION:In order to reach your full potential and live a life of abundance\, you need to identify and define your goals. You need to overcome the obstacles standing between you and success. You need to move from Procrastination to Productivity. \nJoin me for a transformational Masterclass and take control of your life and destiny. \nYou will leave the class: \n·       feeling inspired\, equipped and powerful. \n·      You will leave with business clarity \n·      A “next step” action plan \n·      You will know how to monetize your skills and passion \n·      Identify and eliminate “dream thieves” \n·      Receive a “game plan” to take your expertise to the market place \n·      Learn how to position yourself as an expert authority \n·      Package your brilliance and present your offer \n·      Building your brand \n·      Guidance on general business administration \nDon’t allow your fears or self-limiting beliefs to stop you from walking into your destiny any longer. Take control and invest in yourself! – \n
URL:https://venturecentral.simodisa.org/event/masterclass-to-success-for-entrepreneurs/
ATTACH;FMTTYPE=:
END:VEVENT
END:VCALENDAR