BEGIN:VCALENDAR
VERSION:2.0
PRODID:-//SiMODiSA Digital Portal - ECPv5.0.3.1//NONSGML v1.0//EN
CALSCALE:GREGORIAN
METHOD:PUBLISH
X-WR-CALNAME:SiMODiSA Digital Portal
X-ORIGINAL-URL:https://venturecentral.simodisa.org
X-WR-CALDESC:Events for SiMODiSA Digital Portal
BEGIN:VTIMEZONE
TZID:Africa/Johannesburg
BEGIN:STANDARD
TZOFFSETFROM:+0200
TZOFFSETTO:+0200
TZNAME:SAST
DTSTART:20190101T000000
END:STANDARD
END:VTIMEZONE
BEGIN:VEVENT
DTSTART;TZID=Africa/Johannesburg:20190614T083000
DTEND;TZID=Africa/Johannesburg:20190614T120000
DTSTAMP:20260420T165635
CREATED:20190610T094125Z
LAST-MODIFIED:20190610T094125Z
UID:18273-1560501000-1560513600@venturecentral.simodisa.org
SUMMARY:mLab Fundraising Readiness Workshop
DESCRIPTION:Navigating and understanding the early-stage fundraising space can be tricky for first-time entrepreneurs. If you think you just need a great pitch deck to get funding\, think again. This half-day workshop will help you to understand what types of funding are available for different types of businesses\, give you practical advice on what you need to do to raise funding\, as well as resources and tools to help you connect with funders and investment opportunities. \n
URL:https://venturecentral.simodisa.org/event/mlab-fundraising-readiness-workshop/
ATTACH;FMTTYPE=:
END:VEVENT
END:VCALENDAR