BEGIN:VCALENDAR
VERSION:2.0
PRODID:-//SiMODiSA Digital Portal - ECPv5.0.3.1//NONSGML v1.0//EN
CALSCALE:GREGORIAN
METHOD:PUBLISH
X-WR-CALNAME:SiMODiSA Digital Portal
X-ORIGINAL-URL:https://venturecentral.simodisa.org
X-WR-CALDESC:Events for SiMODiSA Digital Portal
BEGIN:VTIMEZONE
TZID:Africa/Johannesburg
BEGIN:STANDARD
TZOFFSETFROM:+0200
TZOFFSETTO:+0200
TZNAME:SAST
DTSTART:20190101T000000
END:STANDARD
END:VTIMEZONE
BEGIN:VEVENT
DTSTART;TZID=Africa/Johannesburg:20190614T090000
DTEND;TZID=Africa/Johannesburg:20190614T170000
DTSTAMP:20260420T185009
CREATED:20190610T093035Z
LAST-MODIFIED:20190610T093035Z
UID:18266-1560502800-1560531600@venturecentral.simodisa.org
SUMMARY:Motheo TVET Rapid Incubator Small Business Open day
DESCRIPTION:The Motheo TVET College Centre for Enterpuruship and Rapid Incubator will be hosting its open day. This to promote and encourage the support of small business in and around Bloemfontein. \nYou are duly invited to join in the activities\, expect live entertainment\, music eats and a range of products and services manufactures by a small business for your pleasure \nEnquires at: incubator@motheotvet.co.za \n
URL:https://venturecentral.simodisa.org/event/motheo-tvet-rapid-incubator-small-business-open-day/
ATTACH;FMTTYPE=:
END:VEVENT
END:VCALENDAR