BEGIN:VCALENDAR
VERSION:2.0
PRODID:-//SiMODiSA Digital Portal - ECPv5.0.3.1//NONSGML v1.0//EN
CALSCALE:GREGORIAN
METHOD:PUBLISH
X-WR-CALNAME:SiMODiSA Digital Portal
X-ORIGINAL-URL:https://venturecentral.simodisa.org
X-WR-CALDESC:Events for SiMODiSA Digital Portal
BEGIN:VTIMEZONE
TZID:Africa/Johannesburg
BEGIN:STANDARD
TZOFFSETFROM:+0200
TZOFFSETTO:+0200
TZNAME:SAST
DTSTART:20190101T000000
END:STANDARD
END:VTIMEZONE
BEGIN:VEVENT
DTSTART;TZID=Africa/Johannesburg:20190301T183000
DTEND;TZID=Africa/Johannesburg:20190301T210000
DTSTAMP:20260420T234343
CREATED:20190226T151347Z
LAST-MODIFIED:20190226T151347Z
UID:17568-1551465000-1551474000@venturecentral.simodisa.org
SUMMARY:Operation Phakisa: Unlocking the economic potential of South Africa's oceans
DESCRIPTION:THUD this year has a mega focus on ACCESS: markets & funding and aims to be the conduit for developmental marketplace trade opportunities for startups across Africa. \nWe are arguably the largest pitching platform across Africa with regular monthly meetups where we network\, pitch and share trade secrets about the marketplace as aspiring and exisiting founders of companies solving problems within Africa and aiming to service the 1.2 billion population which over 80% of is under the age of 25. We believe that we are the ones we’ve been waiting for. \n
URL:https://venturecentral.simodisa.org/event/operation-phakisa-unlocking-the-economic-potential-of-south-africas-oceans/
END:VEVENT
END:VCALENDAR