BEGIN:VCALENDAR
VERSION:2.0
PRODID:-//SiMODiSA Digital Portal - ECPv5.0.3.1//NONSGML v1.0//EN
CALSCALE:GREGORIAN
METHOD:PUBLISH
X-WR-CALNAME:SiMODiSA Digital Portal
X-ORIGINAL-URL:https://venturecentral.simodisa.org
X-WR-CALDESC:Events for SiMODiSA Digital Portal
BEGIN:VTIMEZONE
TZID:Africa/Johannesburg
BEGIN:STANDARD
TZOFFSETFROM:+0200
TZOFFSETTO:+0200
TZNAME:SAST
DTSTART:20190101T000000
END:STANDARD
END:VTIMEZONE
BEGIN:VEVENT
DTSTART;TZID=Africa/Johannesburg:20190201T183000
DTEND;TZID=Africa/Johannesburg:20190201T210000
DTSTAMP:20260420T221912
CREATED:20190128T142336Z
LAST-MODIFIED:20190128T142336Z
UID:17432-1549045800-1549054800@venturecentral.simodisa.org
SUMMARY:Over R700k raised for SMME trade finance... the evolution of stokvels! #iklipajoe
DESCRIPTION:As an ecosystem builder with linkages across some African countries\, THUD’s philosophy is that to build and contribute positively to the economy of any country\, one needs to enable entrepreneurs to trade effectively and grow profitably in order to be sustainable enough to employ people. This is their 7th year as a movement and they have seen many come and go over time and they are committed to helping build and grow sustainable SMME’s with a strong enterprising culture. \nThey are kickstarting the year by engaging in dialogue around the power of collaboration in finance. They have seen what expansion and not inclusion achieves when there’s a clear vision. South Africans build on trust when it comes to stokvels and they have turned that trust into finance for small businessess looking for purchase order funding to fulfill their promise to their corporate or government clients. \n
URL:https://venturecentral.simodisa.org/event/over-r700k-raised-for-smme-trade-finance-the-evolution-of-stokvels-iklipajoe/
END:VEVENT
END:VCALENDAR