BEGIN:VCALENDAR
VERSION:2.0
PRODID:-//SiMODiSA Digital Portal - ECPv5.0.3.1//NONSGML v1.0//EN
CALSCALE:GREGORIAN
METHOD:PUBLISH
X-WR-CALNAME:SiMODiSA Digital Portal
X-ORIGINAL-URL:https://venturecentral.simodisa.org
X-WR-CALDESC:Events for SiMODiSA Digital Portal
BEGIN:VTIMEZONE
TZID:Africa/Johannesburg
BEGIN:STANDARD
TZOFFSETFROM:+0200
TZOFFSETTO:+0200
TZNAME:SAST
DTSTART:20190101T000000
END:STANDARD
END:VTIMEZONE
BEGIN:VEVENT
DTSTART;TZID=Africa/Johannesburg:20190502T180000
DTEND;TZID=Africa/Johannesburg:20190502T200000
DTSTAMP:20260420T214510
CREATED:20190412T154740Z
LAST-MODIFIED:20190412T154740Z
UID:17869-1556820000-1556827200@venturecentral.simodisa.org
SUMMARY:PaarlApp's Quarterly Business Owner Session
DESCRIPTION:PaarlApp’s Quarterly Business Owner Session is back this May with an awesome lineup of experts to prepare you for winter! We invite all Business Owners in and around Paarl to attend this extraordinary opportunity to learn\, network and grow your business! \nPaarlApp is a Local Economic Development Platform aimed to grow the Drakenstein SME market. Our main product\, PaarlApp\, is downloadable for free on Apple and Android and provides residents with News\, Events\, and Specials around them. \nStefan van Rooyen\, acclaimed business coach with ActionCoach focuses on getting businesses to operate successfully without taking their toll on the owner’s involvement. \n
URL:https://venturecentral.simodisa.org/event/paarlapps-quarterly-business-owner-session/
END:VEVENT
END:VCALENDAR