BEGIN:VCALENDAR
VERSION:2.0
PRODID:-//SiMODiSA Digital Portal - ECPv5.0.3.1//NONSGML v1.0//EN
CALSCALE:GREGORIAN
METHOD:PUBLISH
X-WR-CALNAME:SiMODiSA Digital Portal
X-ORIGINAL-URL:https://venturecentral.simodisa.org
X-WR-CALDESC:Events for SiMODiSA Digital Portal
BEGIN:VTIMEZONE
TZID:Africa/Johannesburg
BEGIN:STANDARD
TZOFFSETFROM:+0200
TZOFFSETTO:+0200
TZNAME:SAST
DTSTART:20170101T000000
END:STANDARD
END:VTIMEZONE
BEGIN:VEVENT
DTSTART;TZID=Africa/Johannesburg:20171115T180000
DTEND;TZID=Africa/Johannesburg:20171115T210000
DTSTAMP:20260423T153508
CREATED:20171027T091107Z
LAST-MODIFIED:20171027T091107Z
UID:10664-1510768800-1510779600@venturecentral.simodisa.org
SUMMARY:Pitch night @ JoziHub
DESCRIPTION:Investment ready start-ups interested in pitching or demo’ing should apply ASAP. The deadline to apply to pitch or demo is 1 November 2017. \n
URL:https://venturecentral.simodisa.org/event/pitch-night-jozihub/
ATTACH;FMTTYPE=:
END:VEVENT
END:VCALENDAR