BEGIN:VCALENDAR
VERSION:2.0
PRODID:-//SiMODiSA Digital Portal - ECPv5.0.3.1//NONSGML v1.0//EN
CALSCALE:GREGORIAN
METHOD:PUBLISH
X-WR-CALNAME:SiMODiSA Digital Portal
X-ORIGINAL-URL:https://venturecentral.simodisa.org
X-WR-CALDESC:Events for SiMODiSA Digital Portal
BEGIN:VTIMEZONE
TZID:Africa/Johannesburg
BEGIN:STANDARD
TZOFFSETFROM:+0200
TZOFFSETTO:+0200
TZNAME:SAST
DTSTART:20190101T000000
END:STANDARD
END:VTIMEZONE
BEGIN:VEVENT
DTSTART;TZID=Africa/Johannesburg:20190605T110000
DTEND;TZID=Africa/Johannesburg:20190606T130000
DTSTAMP:20260420T170848
CREATED:20190506T114012Z
LAST-MODIFIED:20190506T114012Z
UID:18001-1559732400-1559826000@venturecentral.simodisa.org
SUMMARY:PR & Communications Round 2 Workshop for Startups & Small Businesses
DESCRIPTION:This will be the second in our series of practical workshops on PR & Communications for Startups and Small Businesses. Join Sam Manclark and Bronwyn Coppola for a hands-on workshop that will help you create the first draft of your PR & Comms strategy for your business. Whether you are launching the business\, launching a new product\, showcasing a new innovation or just needing to get the word out\, this workshop will get you on your way. \n
URL:https://venturecentral.simodisa.org/event/pr-communications-round-2-workshop-for-startups-small-businesses/
ATTACH;FMTTYPE=:
END:VEVENT
END:VCALENDAR