BEGIN:VCALENDAR
VERSION:2.0
PRODID:-//SiMODiSA Digital Portal - ECPv5.0.3.1//NONSGML v1.0//EN
CALSCALE:GREGORIAN
METHOD:PUBLISH
X-WR-CALNAME:SiMODiSA Digital Portal
X-ORIGINAL-URL:https://venturecentral.simodisa.org
X-WR-CALDESC:Events for SiMODiSA Digital Portal
BEGIN:VTIMEZONE
TZID:Africa/Johannesburg
BEGIN:STANDARD
TZOFFSETFROM:+0200
TZOFFSETTO:+0200
TZNAME:SAST
DTSTART:20190101T000000
END:STANDARD
END:VTIMEZONE
BEGIN:VEVENT
DTSTART;TZID=Africa/Johannesburg:20190228T180000
DTEND;TZID=Africa/Johannesburg:20190228T210000
DTSTAMP:20260421T035150
CREATED:20190226T162314Z
LAST-MODIFIED:20190226T162314Z
UID:17576-1551376800-1551387600@venturecentral.simodisa.org
SUMMARY:Property Point’s Entrepreneurship To The Point session
DESCRIPTION:Staying relevant in a shifting world is a constant challenge for entrepreneurs. Society and the workplace are evolving as is technology. How do small businesses take advantage of this? Artificial Intelligence\, Robotics\, and Big Data sound like weird expressions out of the movies but in reality\, we need to understand and embrace these concepts sooner rather than later. \nAt this Entrepreneurship To The Point session\, we take a look into the future of work in understanding the convergence of technology and human behaviour. \n
URL:https://venturecentral.simodisa.org/event/property-points-entrepreneurship-to-the-point-session/
ATTACH;FMTTYPE=:
END:VEVENT
END:VCALENDAR