BEGIN:VCALENDAR
VERSION:2.0
PRODID:-//SiMODiSA Digital Portal - ECPv5.0.3.1//NONSGML v1.0//EN
CALSCALE:GREGORIAN
METHOD:PUBLISH
X-WR-CALNAME:SiMODiSA Digital Portal
X-ORIGINAL-URL:https://venturecentral.simodisa.org
X-WR-CALDESC:Events for SiMODiSA Digital Portal
BEGIN:VTIMEZONE
TZID:Africa/Johannesburg
BEGIN:STANDARD
TZOFFSETFROM:+0200
TZOFFSETTO:+0200
TZNAME:SAST
DTSTART:20190101T000000
END:STANDARD
END:VTIMEZONE
BEGIN:VEVENT
DTSTART;TZID=Africa/Johannesburg:20190614T130000
DTEND;TZID=Africa/Johannesburg:20190614T153000
DTSTAMP:20260420T204018
CREATED:20190604T143344Z
LAST-MODIFIED:20190604T143344Z
UID:18234-1560517200-1560526200@venturecentral.simodisa.org
SUMMARY:Rave'd Up South Africa - Cape Town
DESCRIPTION:Silicon Valley-based payment processing platform and Y Combinator alum Flutterwave will be launching its product RAVE in an interactive launch set for the 14th of June at InvestSA in Cape Town. RAVE is a payment processing solution that allows access to the worlds’ marketplace through its quick\, easy and affordable payment system. This channel agnostic payment system allows your clients across Africa and the world to pay you with any form of money they have (mobile money\, cash\, card\, EFT); all over a single integrated platform. You don’t even need a website to run your e-commerce business; RAVE also allows you to generate payment URL’s to send to your customers over Whatsapp\, invoices or even to paste on your Social Media pages for your followers to pay from there. \nFlutterwave\, which counts Uber\, Facebook\, Transferwise\, Flywire\, Booking.Com as clients believe that RAVE’s simple and cheap integration is a bold step toward democratizing e-commerce\, and speaking directly to the needs of the African business and consumer. Merchants\, fin-tech enthusiasts and those interested in the global growth story of a proudly African disruptive technology are encouraged to attend. US$10\,000.00 worth of Amazon AWS credits is available to qualifying startups who sign up at the event. \n
URL:https://venturecentral.simodisa.org/event/raved-up-south-africa-cape-town/
END:VEVENT
END:VCALENDAR