BEGIN:VCALENDAR
VERSION:2.0
PRODID:-//SiMODiSA Digital Portal - ECPv5.0.3.1//NONSGML v1.0//EN
CALSCALE:GREGORIAN
METHOD:PUBLISH
X-WR-CALNAME:SiMODiSA Digital Portal
X-ORIGINAL-URL:https://venturecentral.simodisa.org
X-WR-CALDESC:Events for SiMODiSA Digital Portal
BEGIN:VTIMEZONE
TZID:Africa/Johannesburg
BEGIN:STANDARD
TZOFFSETFROM:+0200
TZOFFSETTO:+0200
TZNAME:SAST
DTSTART:20180101T000000
END:STANDARD
END:VTIMEZONE
BEGIN:VEVENT
DTSTART;TZID=Africa/Johannesburg:20180120T090000
DTEND;TZID=Africa/Johannesburg:20180120T120000
DTSTAMP:20260425T233601
CREATED:20180110T124757Z
LAST-MODIFIED:20180110T124757Z
UID:13964-1516438800-1516449600@venturecentral.simodisa.org
SUMMARY:REAL Business Success Seminar
DESCRIPTION:
URL:https://venturecentral.simodisa.org/event/real-business-success-seminar-2/
ATTACH;FMTTYPE=:
END:VEVENT
END:VCALENDAR