BEGIN:VCALENDAR
VERSION:2.0
PRODID:-//SiMODiSA Digital Portal - ECPv5.0.3.1//NONSGML v1.0//EN
CALSCALE:GREGORIAN
METHOD:PUBLISH
X-WR-CALNAME:SiMODiSA Digital Portal
X-ORIGINAL-URL:https://venturecentral.simodisa.org
X-WR-CALDESC:Events for SiMODiSA Digital Portal
BEGIN:VTIMEZONE
TZID:Africa/Johannesburg
BEGIN:STANDARD
TZOFFSETFROM:+0200
TZOFFSETTO:+0200
TZNAME:SAST
DTSTART:20190101T000000
END:STANDARD
END:VTIMEZONE
BEGIN:VEVENT
DTSTART;TZID=Africa/Johannesburg:20190831T093000
DTEND;TZID=Africa/Johannesburg:20190831T170000
DTSTAMP:20260423T090547
CREATED:20190823T123431Z
LAST-MODIFIED:20190823T123431Z
UID:25298-1567243800-1567270800@venturecentral.simodisa.org
SUMMARY:Red Bull Basement Hatch Cape Town
DESCRIPTION:The Red Bull Basement Hatch brings together tech enthusiasts\, makers\, creatives\, designers\, IT students\, incubator managers and funders\, in one room. Here they debate\, talk\, showcase\, network and upskill each other\, with the aim of connecting and building a better South Africa through the use of technology. \nThis one-day event will get you talking\, creating and collaborating with top experts and influencers. More than just a networking opportunity\, it will open new doors to the possibilities technology can offer\, whether you’re refining your solution or taking your first steps into the world of social innovation. \n
URL:https://venturecentral.simodisa.org/event/red-bull-basement-hatch-cape-town/
ATTACH;FMTTYPE=:
END:VEVENT
END:VCALENDAR