BEGIN:VCALENDAR
VERSION:2.0
PRODID:-//SiMODiSA Digital Portal - ECPv5.0.3.1//NONSGML v1.0//EN
CALSCALE:GREGORIAN
METHOD:PUBLISH
X-WR-CALNAME:SiMODiSA Digital Portal
X-ORIGINAL-URL:https://venturecentral.simodisa.org
X-WR-CALDESC:Events for SiMODiSA Digital Portal
BEGIN:VTIMEZONE
TZID:Africa/Johannesburg
BEGIN:STANDARD
TZOFFSETFROM:+0200
TZOFFSETTO:+0200
TZNAME:SAST
DTSTART:20190101T000000
END:STANDARD
END:VTIMEZONE
BEGIN:VEVENT
DTSTART;TZID=Africa/Johannesburg:20190529T140000
DTEND;TZID=Africa/Johannesburg:20190530T173000
DTSTAMP:20260421T040346
CREATED:20190506T105727Z
LAST-MODIFIED:20190506T105727Z
UID:17990-1559138400-1559237400@venturecentral.simodisa.org
SUMMARY:RICS Summit Africa 2019
DESCRIPTION:Wednesday 29 May 2019 \nAn optional technical tour during the day followed by the RICS Summit Africa networking drinks reception in the evening (18:00-20:30). \nThursday 30 May 2019 \nRICS Summit Africa takes place throughout the day. \nThree main ticketing options are available: \n1) RICS Summit Africa – Summit and networking drinks reception (29-30 May 2018) \n2) RICS Summit Africa – Networking drinks reception only (29 May 2018) \n3) RICS Summit Africa – Summit only (30 May 2018) \nThis year’s theme “Investing with Impact – Collaboration and Innovation” will focus on how collaborative partnerships and impactful investment is shaping the future of Sub-Saharan Africa. Key topics for discussion will include an in-depth look into an inward investment\, geopolitics\, and cross-border collaboration\, as well as an examination of current and future investment trends in cities\, renewable energy and transport infrastructure. The agenda will also address established and emerging models of funding. \nAttend to hear regional and international speakers address these pertinent subjects and explore possible collaborative and innovative strategies to push Africa forward as a global thought leader and influencer in the built environment sector. \n
URL:https://venturecentral.simodisa.org/event/rics-summit-africa-2019/
END:VEVENT
END:VCALENDAR