BEGIN:VCALENDAR
VERSION:2.0
PRODID:-//SiMODiSA Digital Portal - ECPv5.0.3.1//NONSGML v1.0//EN
CALSCALE:GREGORIAN
METHOD:PUBLISH
X-WR-CALNAME:SiMODiSA Digital Portal
X-ORIGINAL-URL:https://venturecentral.simodisa.org
X-WR-CALDESC:Events for SiMODiSA Digital Portal
BEGIN:VTIMEZONE
TZID:Africa/Johannesburg
BEGIN:STANDARD
TZOFFSETFROM:+0200
TZOFFSETTO:+0200
TZNAME:SAST
DTSTART:20180101T000000
END:STANDARD
END:VTIMEZONE
BEGIN:VEVENT
DTSTART;TZID=Africa/Johannesburg:20180117T090000
DTEND;TZID=Africa/Johannesburg:20180117T110000
DTSTAMP:20260425T203125
CREATED:20180115T144816Z
LAST-MODIFIED:20180115T144816Z
UID:14174-1516179600-1516186800@venturecentral.simodisa.org
SUMMARY:Rise to the Challenge: Emerging Trends 101
DESCRIPTION:
URL:https://venturecentral.simodisa.org/event/rise-to-the-challenge-emerging-trends-101/
ATTACH;FMTTYPE=:
END:VEVENT
END:VCALENDAR