BEGIN:VCALENDAR
VERSION:2.0
PRODID:-//SiMODiSA Digital Portal - ECPv5.0.3.1//NONSGML v1.0//EN
CALSCALE:GREGORIAN
METHOD:PUBLISH
X-WR-CALNAME:SiMODiSA Digital Portal
X-ORIGINAL-URL:https://venturecentral.simodisa.org
X-WR-CALDESC:Events for SiMODiSA Digital Portal
BEGIN:VTIMEZONE
TZID:Africa/Johannesburg
BEGIN:STANDARD
TZOFFSETFROM:+0200
TZOFFSETTO:+0200
TZNAME:SAST
DTSTART:20170101T000000
END:STANDARD
END:VTIMEZONE
BEGIN:VEVENT
DTSTART;TZID=Africa/Johannesburg:20171109T080000
DTEND;TZID=Africa/Johannesburg:20171109T113000
DTSTAMP:20260421T053924
CREATED:20171025T143753Z
LAST-MODIFIED:20171025T143753Z
UID:9764-1510214400-1510227000@venturecentral.simodisa.org
SUMMARY:SA Small Business Awards 2017
DESCRIPTION:
URL:https://venturecentral.simodisa.org/event/sa-small-business-awards-2017/
ATTACH;FMTTYPE=:
END:VEVENT
END:VCALENDAR