BEGIN:VCALENDAR
VERSION:2.0
PRODID:-//SiMODiSA Digital Portal - ECPv5.0.3.1//NONSGML v1.0//EN
CALSCALE:GREGORIAN
METHOD:PUBLISH
X-WR-CALNAME:SiMODiSA Digital Portal
X-ORIGINAL-URL:https://venturecentral.simodisa.org
X-WR-CALDESC:Events for SiMODiSA Digital Portal
BEGIN:VTIMEZONE
TZID:Africa/Johannesburg
BEGIN:STANDARD
TZOFFSETFROM:+0200
TZOFFSETTO:+0200
TZNAME:SAST
DTSTART:20190101T000000
END:STANDARD
END:VTIMEZONE
BEGIN:VEVENT
DTSTART;TZID=Africa/Johannesburg:20190613T090000
DTEND;TZID=Africa/Johannesburg:20190613T113000
DTSTAMP:20260420T233829
CREATED:20190610T095503Z
LAST-MODIFIED:20190610T095503Z
UID:18285-1560416400-1560425400@venturecentral.simodisa.org
SUMMARY:SA SME Fund introductory event
DESCRIPTION:Akro Capital will host the SA SME Fund along with its partner funds for an introductory event. Topics to be discussed include SA’s venture capital ecosystem\, how it applies to early-stage startups and how to access funding. \n
URL:https://venturecentral.simodisa.org/event/sa-sme-fund-introductory-event/
END:VEVENT
END:VCALENDAR