BEGIN:VCALENDAR
VERSION:2.0
PRODID:-//SiMODiSA Digital Portal - ECPv5.0.3.1//NONSGML v1.0//EN
CALSCALE:GREGORIAN
METHOD:PUBLISH
X-WR-CALNAME:SiMODiSA Digital Portal
X-ORIGINAL-URL:https://venturecentral.simodisa.org
X-WR-CALDESC:Events for SiMODiSA Digital Portal
BEGIN:VTIMEZONE
TZID:Africa/Johannesburg
BEGIN:STANDARD
TZOFFSETFROM:+0200
TZOFFSETTO:+0200
TZNAME:SAST
DTSTART:20170101T000000
END:STANDARD
END:VTIMEZONE
BEGIN:VEVENT
DTSTART;VALUE=DATE:20170817
DTEND;VALUE=DATE:20170819
DTSTAMP:20260421T025848
CREATED:20170810T125257Z
LAST-MODIFIED:20170810T125257Z
UID:2732-1502928000-1503100799@venturecentral.simodisa.org
SUMMARY:Sales Leadership Convention 2017
DESCRIPTION:
URL:https://venturecentral.simodisa.org/event/sales-leadership-convention-2017-2/
LOCATION:blog-50
END:VEVENT
END:VCALENDAR