BEGIN:VCALENDAR
VERSION:2.0
PRODID:-//SiMODiSA Digital Portal - ECPv5.0.3.1//NONSGML v1.0//EN
CALSCALE:GREGORIAN
METHOD:PUBLISH
X-WR-CALNAME:SiMODiSA Digital Portal
X-ORIGINAL-URL:https://venturecentral.simodisa.org
X-WR-CALDESC:Events for SiMODiSA Digital Portal
BEGIN:VTIMEZONE
TZID:Africa/Johannesburg
BEGIN:STANDARD
TZOFFSETFROM:+0200
TZOFFSETTO:+0200
TZNAME:SAST
DTSTART:20190101T000000
END:STANDARD
END:VTIMEZONE
BEGIN:VEVENT
DTSTART;VALUE=DATE:20191121
DTEND;VALUE=DATE:20191122
DTSTAMP:20260420T165652
CREATED:20190722T121542Z
LAST-MODIFIED:20190722T121542Z
UID:19436-1574294400-1574380799@venturecentral.simodisa.org
SUMMARY:Sales Summit Durban
DESCRIPTION:“Boost your Sales”\nSales Summit is a full-day training session and sales conference open to all industries and businesses. Our programme and content will spark new creative ways to approach sales and re-think your sales methods. Leading sales experts will share their know-how and skills in mastering sales. This conference will enable sales managers and their teams to reach new sales heights. \n
URL:https://venturecentral.simodisa.org/event/sales-summit-durban/
ATTACH;FMTTYPE=:
END:VEVENT
END:VCALENDAR